BEGIN:VCALENDAR
VERSION:2.0
PRODID:-//Voices For Freedom - ECPv6.15.20//NONSGML v1.0//EN
CALSCALE:GREGORIAN
METHOD:PUBLISH
X-WR-CALNAME:Voices For Freedom
X-ORIGINAL-URL:https://www.voicesforfreedom.co.nz
X-WR-CALDESC:Events for Voices For Freedom
REFRESH-INTERVAL;VALUE=DURATION:PT1H
X-Robots-Tag:noindex
X-PUBLISHED-TTL:PT1H
BEGIN:VTIMEZONE
TZID:Pacific/Auckland
BEGIN:STANDARD
TZOFFSETFROM:+1300
TZOFFSETTO:+1200
TZNAME:NZST
DTSTART:20220402T140000
END:STANDARD
BEGIN:DAYLIGHT
TZOFFSETFROM:+1200
TZOFFSETTO:+1300
TZNAME:NZDT
DTSTART:20220924T140000
END:DAYLIGHT
BEGIN:STANDARD
TZOFFSETFROM:+1300
TZOFFSETTO:+1200
TZNAME:NZST
DTSTART:20230401T140000
END:STANDARD
BEGIN:DAYLIGHT
TZOFFSETFROM:+1200
TZOFFSETTO:+1300
TZNAME:NZDT
DTSTART:20230923T140000
END:DAYLIGHT
BEGIN:STANDARD
TZOFFSETFROM:+1300
TZOFFSETTO:+1200
TZNAME:NZST
DTSTART:20240406T140000
END:STANDARD
BEGIN:DAYLIGHT
TZOFFSETFROM:+1200
TZOFFSETTO:+1300
TZNAME:NZDT
DTSTART:20240928T140000
END:DAYLIGHT
END:VTIMEZONE
BEGIN:VEVENT
DTSTART;TZID=Pacific/Auckland:20230824T190000
DTEND;TZID=Pacific/Auckland:20230824T210000
DTSTAMP:20260420T213250
CREATED:20230811T035433Z
LAST-MODIFIED:20230811T035433Z
UID:10000136-1692903600-1692910800@www.voicesforfreedom.co.nz
SUMMARY:NZ First | Christchurch East Meeting with Shane Wiremu
DESCRIPTION:
URL:https://www.voicesforfreedom.co.nz/event/nz-first-christchurch-east-meeting-with-shane-wiremu/
LOCATION:Celebration Venue\, 81 Bickerton Street\, Wainoni\, Christchurch\, 8061\, New Zealand
GEO:-43.5192139;172.6939889
X-APPLE-STRUCTURED-LOCATION;VALUE=URI;X-ADDRESS=Celebration Venue 81 Bickerton Street Wainoni Christchurch 8061 New Zealand;X-APPLE-RADIUS=500;X-TITLE=81 Bickerton Street:geo:172.6939889,-43.5192139
END:VEVENT
END:VCALENDAR