BEGIN:VCALENDAR
VERSION:2.0
PRODID:-//Voices For Freedom - ECPv6.15.20//NONSGML v1.0//EN
CALSCALE:GREGORIAN
METHOD:PUBLISH
X-WR-CALNAME:Voices For Freedom
X-ORIGINAL-URL:https://www.voicesforfreedom.co.nz
X-WR-CALDESC:Events for Voices For Freedom
REFRESH-INTERVAL;VALUE=DURATION:PT1H
X-Robots-Tag:noindex
X-PUBLISHED-TTL:PT1H
BEGIN:VTIMEZONE
TZID:Pacific/Auckland
BEGIN:STANDARD
TZOFFSETFROM:+1300
TZOFFSETTO:+1200
TZNAME:NZST
DTSTART:20220402T140000
END:STANDARD
BEGIN:DAYLIGHT
TZOFFSETFROM:+1200
TZOFFSETTO:+1300
TZNAME:NZDT
DTSTART:20220924T140000
END:DAYLIGHT
BEGIN:STANDARD
TZOFFSETFROM:+1300
TZOFFSETTO:+1200
TZNAME:NZST
DTSTART:20230401T140000
END:STANDARD
BEGIN:DAYLIGHT
TZOFFSETFROM:+1200
TZOFFSETTO:+1300
TZNAME:NZDT
DTSTART:20230923T140000
END:DAYLIGHT
BEGIN:STANDARD
TZOFFSETFROM:+1300
TZOFFSETTO:+1200
TZNAME:NZST
DTSTART:20240406T140000
END:STANDARD
BEGIN:DAYLIGHT
TZOFFSETFROM:+1200
TZOFFSETTO:+1300
TZNAME:NZDT
DTSTART:20240928T140000
END:DAYLIGHT
END:VTIMEZONE
BEGIN:VEVENT
DTSTART;TZID=Pacific/Auckland:20230924T130000
DTEND;TZID=Pacific/Auckland:20230924T150000
DTSTAMP:20260420T225025
CREATED:20230917T081638Z
LAST-MODIFIED:20230917T081638Z
UID:10000352-1695560400-1695567600@www.voicesforfreedom.co.nz
SUMMARY:NZ First | Hamilton Public Meeting
DESCRIPTION:
URL:https://www.voicesforfreedom.co.nz/event/nz-first-hamilton-public-meeting/
LOCATION:Centennial Lounge – Te Rapa Racecourse\, Ken Browne Drive\, Te Rapa\, Hamilton\, 3200\, New Zealand
GEO:-37.7655317;175.2501794
X-APPLE-STRUCTURED-LOCATION;VALUE=URI;X-ADDRESS=Centennial Lounge – Te Rapa Racecourse Ken Browne Drive Te Rapa Hamilton 3200 New Zealand;X-APPLE-RADIUS=500;X-TITLE=Ken Browne Drive:geo:175.2501794,-37.7655317
END:VEVENT
END:VCALENDAR