BEGIN:VCALENDAR
VERSION:2.0
PRODID:-//Voices For Freedom - ECPv6.15.20//NONSGML v1.0//EN
CALSCALE:GREGORIAN
METHOD:PUBLISH
X-ORIGINAL-URL:https://www.voicesforfreedom.co.nz
X-WR-CALDESC:Events for Voices For Freedom
REFRESH-INTERVAL;VALUE=DURATION:PT1H
X-Robots-Tag:noindex
X-PUBLISHED-TTL:PT1H
BEGIN:VTIMEZONE
TZID:Pacific/Auckland
BEGIN:STANDARD
TZOFFSETFROM:+1300
TZOFFSETTO:+1200
TZNAME:NZST
DTSTART:20220402T140000
END:STANDARD
BEGIN:DAYLIGHT
TZOFFSETFROM:+1200
TZOFFSETTO:+1300
TZNAME:NZDT
DTSTART:20220924T140000
END:DAYLIGHT
BEGIN:STANDARD
TZOFFSETFROM:+1300
TZOFFSETTO:+1200
TZNAME:NZST
DTSTART:20230401T140000
END:STANDARD
BEGIN:DAYLIGHT
TZOFFSETFROM:+1200
TZOFFSETTO:+1300
TZNAME:NZDT
DTSTART:20230923T140000
END:DAYLIGHT
BEGIN:STANDARD
TZOFFSETFROM:+1300
TZOFFSETTO:+1200
TZNAME:NZST
DTSTART:20240406T140000
END:STANDARD
BEGIN:DAYLIGHT
TZOFFSETFROM:+1200
TZOFFSETTO:+1300
TZNAME:NZDT
DTSTART:20240928T140000
END:DAYLIGHT
END:VTIMEZONE
BEGIN:VEVENT
DTSTART;TZID=Pacific/Auckland:20230806T130000
DTEND;TZID=Pacific/Auckland:20230806T150000
DTSTAMP:20260420T034230
CREATED:20230730T041842Z
LAST-MODIFIED:20230730T041842Z
UID:10000078-1691326800-1691334000@www.voicesforfreedom.co.nz
SUMMARY:NZ First Christchurch Public Meeting
DESCRIPTION:
URL:https://www.voicesforfreedom.co.nz/event/nz-first-christchurch-public-meeting/
LOCATION:Chateau on the Park\, 189 Deans Ave\, Riccarton\, Christchurch\, 8011\, New Zealand
GEO:-43.5261609;172.6114517
X-APPLE-STRUCTURED-LOCATION;VALUE=URI;X-ADDRESS=Chateau on the Park 189 Deans Ave Riccarton Christchurch 8011 New Zealand;X-APPLE-RADIUS=500;X-TITLE=189 Deans Ave:geo:172.6114517,-43.5261609
END:VEVENT
BEGIN:VEVENT
DTSTART;TZID=Pacific/Auckland:20230806T130000
DTEND;TZID=Pacific/Auckland:20230806T140000
DTSTAMP:20260420T034230
CREATED:20230802T090832Z
LAST-MODIFIED:20230802T090832Z
UID:10000126-1691326800-1691330400@www.voicesforfreedom.co.nz
SUMMARY:NZ First | Christchurch Public Meeting
DESCRIPTION:
URL:https://www.voicesforfreedom.co.nz/event/nz-first-christchurch-public-meeting-2/
LOCATION:Chateau on the Park\, 189 Deans Ave\, Riccarton\, Christchurch\, 8011\, New Zealand
GEO:-43.5261609;172.6114517
X-APPLE-STRUCTURED-LOCATION;VALUE=URI;X-ADDRESS=Chateau on the Park 189 Deans Ave Riccarton Christchurch 8011 New Zealand;X-APPLE-RADIUS=500;X-TITLE=189 Deans Ave:geo:172.6114517,-43.5261609
END:VEVENT
END:VCALENDAR